{"text_format":"1","workbook":"xlsx","n_sheets":3,"sheets":["Sales Analysis","Expense Analysis","Data"],"not_rendered":{"charts":0,"images":1,"macros":1,"external_links":0,"defined_names":2,"comments":0,"pivot_tables":0},"unopened":[],"bounds":{"document_bytes":16777216,"sheet_cells":100000,"rows_first":2000,"rows_last":500,"rows_between":2000,"halvings":0,"cell_chars":16384,"cell_head_chars":4096},"cells_cut":0,"cells_raw":0,"read":"whole","date_system":"1900"}

{"sheet":"Sales Analysis","index":0,"n_rows":12,"n_cols":2,"rows_kept":12,"cut":false,"hidden":false,"merged":[]}
[null,"Product Sales Trend"]
[]
[]
[null,"Select a state:"]
[]
[null,{"$f":"Data!K9","v":"Product 1"}]
[null,{"$f":"Data!K10","v":"Product 2"}]
[null,{"$f":"Data!K11","v":"Product 3"}]
[null,{"$f":"Data!K12","v":"Product 4"}]
[null,{"$f":"Data!K13","v":"Product 5"}]
[]
[null,"All"]

{"sheet":"Expense Analysis","index":1,"n_rows":12,"n_cols":2,"rows_kept":12,"cut":false,"hidden":false,"merged":[]}
[null,"Expenses Trend"]
[]
[]
[null,"Select a state:"]
[]
[null,{"$f":"Data!K9","v":"Product 1"}]
[null,{"$f":"Data!K10","v":"Product 2"}]
[null,{"$f":"Data!K11","v":"Product 3"}]
[null,{"$f":"Data!K12","v":"Product 4"}]
[null,{"$f":"Data!K13","v":"Product 5"}]
[]
[null,"All"]

{"sheet":"Data","index":2,"n_rows":605,"n_cols":23,"rows_kept":605,"cut":false,"hidden":false,"merged":[]}
[null,"Data"]
[]
[null,"Raw data",null,null,null,null,null,null,null,null,"Calculations"]
[]
[null,"State","Product","Month","Sales","Expenses",null,null,"State","Code","Selected Region",null,1,{"$f":"INDEX(states,M5)","v":"California"}]
[null,"Ohio","Product 1","2014-01-01",2800,2505,null,null,"California","CA"]
[null,"Ohio","Product 2","2014-01-01",3715,2350,null,null,"Florida","FL","Sales","Month"]
[null,"Ohio","Product 3","2014-01-01",3490,2685,null,null,"Kentucky","KY","Product","2014-01-01","2014-02-01","2014-03-01","2014-04-01","2014-05-01","2014-06-01","2014-07-01","2014-08-01","2014-09-01","2014-10-01","2014-11-01","2014-12-01"]
[null,"Ohio","Product 4","2014-01-01",4000,2060,null,null,"New Jersey","NJ","Product 1",{"$f":"SUMIFS(data[Sales],data[State],$N$5,data[Product],$K9,data[Month],L$8)","v":4260},{"$f":"SUMIFS(data[Sales],data[State],$N$5,data[Product],$K9,data[Month],M$8)","v":4700},{"$f":"SUMIFS(data[Sales],data[State],$N$5,data[Product],$K9,data[Month],N$8)","v":3670},{"$f":"SUMIFS(data[Sales],data[State],$N$5,data[Product],$K9,data[Month],O$8)","v":3850},{"$f":"SUMIFS(data[Sales],data[State],$N$5,data[Product],$K9,data[Month],P$8)","v":3130},{"$f":"SUMIFS(data[Sales],data[State],$N$5,data[Product],$K9,data[Month],Q$8)","v":4205},{"$f":"SUMIFS(data[Sales],data[State],$N$5,data[Product],$K9,data[Month],R$8)","v":5205},{"$f":"SUMIFS(data[Sales],data[State],$N$5,data[Product],$K9,data[Month],S$8)","v":3225},{"$f":"SUMIFS(data[Sales],data[State],$N$5,data[Product],$K9,data[Month],T$8)","v":3115},{"$f":"SUMIFS(data[Sales],data[State],$N$5,data[Product],$K9,data[Month],U$8)","v":3100},{"$f":"SUMIFS(data[Sales],data[State],$N$5,data[Product],$K9,data[Month],V$8)","v":4235},{"$f":"SUMIFS(data[Sales],data[State],$N$5,data[Product],$K9,data[Month],W$8)","v":5600}]
[null,"Ohio","Product 5","2014-01-01",4295,2130,null,null,"New York","NY","Product 2",{"$f":"SUMIFS(data[Sales],data[State],$N$5,data[Product],$K10,data[Month],L$8)","v":2940},{"$f":"SUMIFS(data[Sales],data[State],$N$5,data[Product],$K10,data[Month],M$8)","v":4020},{"$f":"SUMIFS(data[Sales],data[State],$N$5,data[Product],$K10,data[Month],N$8)","v":3705},{"$f":"SUMIFS(data[Sales],data[State],$N$5,data[Product],$K10,data[Month],O$8)","v":4380},{"$f":"SUMIFS(data[Sales],data[State],$N$5,data[Product],$K10,data[Month],P$8)","v":3835},{"$f":"SUMIFS(data[Sales],data[State],$N$5,data[Product],$K10,data[Month],Q$8)","v":3950},{"$f":"SUMIFS(data[Sales],data[State],$N$5,data[Product],$K10,data[Month],R$8)","v":4190},{"$f":"SUMIFS(data[Sales],data[State],$N$5,data[Product],$K10,data[Month],S$8)","v":3995},{"$f":"SUMIFS(data[Sales],data[State],$N$5,data[Product],$K10,data[Month],T$8)","v":3945},{"$f":"SUMIFS(data[Sales],data[State],$N$5,data[Product],$K10,data[Month],U$8)","v":5135},{"$f":"SUMIFS(data[Sales],data[State],$N$5,data[Product],$K10,data[Month],V$8)","v":4305},{"$f":"SUMIFS(data[Sales],data[State],$N$5,data[Product],$K10,data[Month],W$8)","v":3930}]
[null,"Ohio","Product 1","2014-02-01",3590,2575,null,null,"Ohio","OH","Product 3",{"$f":"SUMIFS(data[Sales],data[State],$N$5,data[Product],$K11,data[Month],L$8)","v":3360},{"$f":"SUMIFS(data[Sales],data[State],$N$5,data[Product],$K11,data[Month],M$8)","v":4390},{"$f":"SUMIFS(data[Sales],data[State],$N$5,data[Product],$K11,data[Month],N$8)","v":3480},{"$f":"SUMIFS(data[Sales],data[State],$N$5,data[Product],$K11,data[Month],O$8)","v":4580},{"$f":"SUMIFS(data[Sales],data[State],$N$5,data[Product],$K11,data[Month],P$8)","v":3815},{"$f":"SUMIFS(data[Sales],data[State],$N$5,data[Product],$K11,data[Month],Q$8)","v":3200},{"$f":"SUMIFS(data[Sales],data[State],$N$5,data[Product],$K11,data[Month],R$8)","v":4320},{"$f":"SUMIFS(data[Sales],data[State],$N$5,data[Product],$K11,data[Month],S$8)","v":2915},{"$f":"SUMIFS(data[Sales],data[State],$N$5,data[Product],$K11,data[Month],T$8)","v":3665},{"$f":"SUMIFS(data[Sales],data[State],$N$5,data[Product],$K11,data[Month],U$8)","v":3645},{"$f":"SUMIFS(data[Sales],data[State],$N$5,data[Product],$K11,data[Month],V$8)","v":5310},{"$f":"SUMIFS(data[Sales],data[State],$N$5,data[Product],$K11,data[Month],W$8)","v":3270}]
[null,"Ohio","Product 2","2014-02-01",3685,2380,null,null,"Oregon","OR","Product 4",{"$f":"SUMIFS(data[Sales],data[State],$N$5,data[Product],$K12,data[Month],L$8)","v":4475},{"$f":"SUMIFS(data[Sales],data[State],$N$5,data[Product],$K12,data[Month],M$8)","v":4940},{"$f":"SUMIFS(data[Sales],data[State],$N$5,data[Product],$K12,data[Month],N$8)","v":3885},{"$f":"SUMIFS(data[Sales],data[State],$N$5,data[Product],$K12,data[Month],O$8)","v":4445},{"$f":"SUMIFS(data[Sales],data[State],$N$5,data[Product],$K12,data[Month],P$8)","v":5155},{"$f":"SUMIFS(data[Sales],data[State],$N$5,data[Product],$K12,data[Month],Q$8)","v":2520},{"$f":"SUMIFS(data[Sales],data[State],$N$5,data[Product],$K12,data[Month],R$8)","v":3910},{"$f":"SUMIFS(data[Sales],data[State],$N$5,data[Product],$K12,data[Month],S$8)","v":3530},{"$f":"SUMIFS(data[Sales],data[State],$N$5,data[Product],$K12,data[Month],T$8)","v":4120},{"$f":"SUMIFS(data[Sales],data[State],$N$5,data[Product],$K12,data[Month],U$8)","v":4015},{"$f":"SUMIFS(data[Sales],data[State],$N$5,data[Product],$K12,data[Month],V$8)","v":3965},{"$f":"SUMIFS(data[Sales],data[State],$N$5,data[Product],$K12,data[Month],W$8)","v":3165}]
[null,"Ohio","Product 3","2014-02-01",3525,2205,null,null,"South Carolina","SC","Product 5",{"$f":"SUMIFS(data[Sales],data[State],$N$5,data[Product],$K13,data[Month],L$8)","v":3185},{"$f":"SUMIFS(data[Sales],data[State],$N$5,data[Product],$K13,data[Month],M$8)","v":4095},{"$f":"SUMIFS(data[Sales],data[State],$N$5,data[Product],$K13,data[Month],N$8)","v":4285},{"$f":"SUMIFS(data[Sales],data[State],$N$5,data[Product],$K13,data[Month],O$8)","v":3895},{"$f":"SUMIFS(data[Sales],data[State],$N$5,data[Product],$K13,data[Month],P$8)","v":4620},{"$f":"SUMIFS(data[Sales],data[State],$N$5,data[Product],$K13,data[Month],Q$8)","v":3645},{"$f":"SUMIFS(data[Sales],data[State],$N$5,data[Product],$K13,data[Month],R$8)","v":3760},{"$f":"SUMIFS(data[Sales],data[State],$N$5,data[Product],$K13,data[Month],S$8)","v":4425},{"$f":"SUMIFS(data[Sales],data[State],$N$5,data[Product],$K13,data[Month],T$8)","v":4075},{"$f":"SUMIFS(data[Sales],data[State],$N$5,data[Product],$K13,data[Month],U$8)","v":4765},{"$f":"SUMIFS(data[Sales],data[State],$N$5,data[Product],$K13,data[Month],V$8)","v":3895},{"$f":"SUMIFS(data[Sales],data[State],$N$5,data[Product],$K13,data[Month],W$8)","v":3190}]
[null,"Ohio","Product 4","2014-02-01",3675,2470,null,null,"Texas","TX","ALL",{"$f":"SUM(L9:L13)","v":18220},{"$f":"SUM(M9:M13)","v":22145},19025,21150,20555,17520,21385,18090,18920,20660,21710,19155]
[null,"Ohio","Product 5","2014-02-01",4105,2840,null,null,"Washington","WA"]
[null,"Ohio","Product 1","2014-03-01",4360,2870,null,null,null,null,"Expenses","Month"]
[null,"Ohio","Product 2","2014-03-01",3235,1685,null,null,null,null,"Product","2014-01-01","2014-02-01","2014-03-01","2014-04-01","2014-05-01","2014-06-01","2014-07-01","2014-08-01","2014-09-01","2014-10-01","2014-11-01","2014-12-01"]
[null,"Ohio","Product 3","2014-03-01",4365,3115,null,null,null,null,"Product 1",{"$f":"SUMIFS(data[Expenses],data[State],$N$5,data[Product],$K18,data[Month],L$8)","v":2150},{"$f":"SUMIFS(data[Expenses],data[State],$N$5,data[Product],$K18,data[Month],M$8)","v":2405},{"$f":"SUMIFS(data[Expenses],data[State],$N$5,data[Product],$K18,data[Month],N$8)","v":2175},{"$f":"SUMIFS(data[Expenses],data[State],$N$5,data[Product],$K18,data[Month],O$8)","v":2145},{"$f":"SUMIFS(data[Expenses],data[State],$N$5,data[Product],$K18,data[Month],P$8)","v":1730},{"$f":"SUMIFS(data[Expenses],data[State],$N$5,data[Product],$K18,data[Month],Q$8)","v":2030},{"$f":"SUMIFS(data[Expenses],data[State],$N$5,data[Product],$K18,data[Month],R$8)","v":2795},{"$f":"SUMIFS(data[Expenses],data[State],$N$5,data[Product],$K18,data[Month],S$8)","v":2700},{"$f":"SUMIFS(data[Expenses],data[State],$N$5,data[Product],$K18,data[Month],T$8)","v":2255},{"$f":"SUMIFS(data[Expenses],data[State],$N$5,data[Product],$K18,data[Month],U$8)","v":2755},{"$f":"SUMIFS(data[Expenses],data[State],$N$5,data[Product],$K18,data[Month],V$8)","v":2680},{"$f":"SUMIFS(data[Expenses],data[State],$N$5,data[Product],$K18,data[Month],W$8)","v":2660}]
[null,"Ohio","Product 4","2014-03-01",4670,2815,null,null,null,null,"Product 2",{"$f":"SUMIFS(data[Expenses],data[State],$N$5,data[Product],$K19,data[Month],L$8)","v":2655},{"$f":"SUMIFS(data[Expenses],data[State],$N$5,data[Product],$K19,data[Month],M$8)","v":2080},{"$f":"SUMIFS(data[Expenses],data[State],$N$5,data[Product],$K19,data[Month],N$8)","v":2925},{"$f":"SUMIFS(data[Expenses],data[State],$N$5,data[Product],$K19,data[Month],O$8)","v":1610},{"$f":"SUMIFS(data[Expenses],data[State],$N$5,data[Product],$K19,data[Month],P$8)","v":2965},{"$f":"SUMIFS(data[Expenses],data[State],$N$5,data[Product],$K19,data[Month],Q$8)","v":2365},{"$f":"SUMIFS(data[Expenses],data[State],$N$5,data[Product],$K19,data[Month],R$8)","v":2265},{"$f":"SUMIFS(data[Expenses],data[State],$N$5,data[Product],$K19,data[Month],S$8)","v":2670},{"$f":"SUMIFS(data[Expenses],data[State],$N$5,data[Product],$K19,data[Month],T$8)","v":2400},{"$f":"SUMIFS(data[Expenses],data[State],$N$5,data[Product],$K19,data[Month],U$8)","v":2655},{"$f":"SUMIFS(data[Expenses],data[State],$N$5,data[Product],$K19,data[Month],V$8)","v":2875},{"$f":"SUMIFS(data[Expenses],data[State],$N$5,data[Product],$K19,data[Month],W$8)","v":2545}]
[null,"Ohio","Product 5","2014-03-01",3680,2515,null,null,null,null,"Product 3",{"$f":"SUMIFS(data[Expenses],data[State],$N$5,data[Product],$K20,data[Month],L$8)","v":2680},{"$f":"SUMIFS(data[Expenses],data[State],$N$5,data[Product],$K20,data[Month],M$8)","v":3295},{"$f":"SUMIFS(data[Expenses],data[State],$N$5,data[Product],$K20,data[Month],N$8)","v":2590},{"$f":"SUMIFS(data[Expenses],data[State],$N$5,data[Product],$K20,data[Month],O$8)","v":2705},{"$f":"SUMIFS(data[Expenses],data[State],$N$5,data[Product],$K20,data[Month],P$8)","v":3070},{"$f":"SUMIFS(data[Expenses],data[State],$N$5,data[Product],$K20,data[Month],Q$8)","v":2615},{"$f":"SUMIFS(data[Expenses],data[State],$N$5,data[Product],$K20,data[Month],R$8)","v":1240},{"$f":"SUMIFS(data[Expenses],data[State],$N$5,data[Product],$K20,data[Month],S$8)","v":2055},{"$f":"SUMIFS(data[Expenses],data[State],$N$5,data[Product],$K20,data[Month],T$8)","v":2695},{"$f":"SUMIFS(data[Expenses],data[State],$N$5,data[Product],$K20,data[Month],U$8)","v":2745},{"$f":"SUMIFS(data[Expenses],data[State],$N$5,data[Product],$K20,data[Month],V$8)","v":2560},{"$f":"SUMIFS(data[Expenses],data[State],$N$5,data[Product],$K20,data[Month],W$8)","v":2570}]
[null,"Ohio","Product 1","2014-04-01",3795,1945,null,null,null,null,"Product 4",{"$f":"SUMIFS(data[Expenses],data[State],$N$5,data[Product],$K21,data[Month],L$8)","v":2270},{"$f":"SUMIFS(data[Expenses],data[State],$N$5,data[Product],$K21,data[Month],M$8)","v":2795},{"$f":"SUMIFS(data[Expenses],data[State],$N$5,data[Product],$K21,data[Month],N$8)","v":2885},{"$f":"SUMIFS(data[Expenses],data[State],$N$5,data[Product],$K21,data[Month],O$8)","v":2755},{"$f":"SUMIFS(data[Expenses],data[State],$N$5,data[Product],$K21,data[Month],P$8)","v":2550},{"$f":"SUMIFS(data[Expenses],data[State],$N$5,data[Product],$K21,data[Month],Q$8)","v":1865},{"$f":"SUMIFS(data[Expenses],data[State],$N$5,data[Product],$K21,data[Month],R$8)","v":2060},{"$f":"SUMIFS(data[Expenses],data[State],$N$5,data[Product],$K21,data[Month],S$8)","v":1890},{"$f":"SUMIFS(data[Expenses],data[State],$N$5,data[Product],$K21,data[Month],T$8)","v":2565},{"$f":"SUMIFS(data[Expenses],data[State],$N$5,data[Product],$K21,data[Month],U$8)","v":2750},{"$f":"SUMIFS(data[Expenses],data[State],$N$5,data[Product],$K21,data[Month],V$8)","v":1845},{"$f":"SUMIFS(data[Expenses],data[State],$N$5,data[Product],$K21,data[Month],W$8)","v":2045}]
[null,"Ohio","Product 2","2014-04-01",4165,3705,null,null,null,null,"Product 5",{"$f":"SUMIFS(data[Expenses],data[State],$N$5,data[Product],$K22,data[Month],L$8)","v":1960},{"$f":"SUMIFS(data[Expenses],data[State],$N$5,data[Product],$K22,data[Month],M$8)","v":2640},{"$f":"SUMIFS(data[Expenses],data[State],$N$5,data[Product],$K22,data[Month],N$8)","v":1995},{"$f":"SUMIFS(data[Expenses],data[State],$N$5,data[Product],$K22,data[Month],O$8)","v":2880},{"$f":"SUMIFS(data[Expenses],data[State],$N$5,data[Product],$K22,data[Month],P$8)","v":2305},{"$f":"SUMIFS(data[Expenses],data[State],$N$5,data[Product],$K22,data[Month],Q$8)","v":2465},{"$f":"SUMIFS(data[Expenses],data[State],$N$5,data[Product],$K22,data[Month],R$8)","v":2755},{"$f":"SUMIFS(data[Expenses],data[State],$N$5,data[Product],$K22,data[Month],S$8)","v":2910},{"$f":"SUMIFS(data[Expenses],data[State],$N$5,data[Product],$K22,data[Month],T$8)","v":2800},{"$f":"SUMIFS(data[Expenses],data[State],$N$5,data[Product],$K22,data[Month],U$8)","v":2210},{"$f":"SUMIFS(data[Expenses],data[State],$N$5,data[Product],$K22,data[Month],V$8)","v":2030},{"$f":"SUMIFS(data[Expenses],data[State],$N$5,data[Product],$K22,data[Month],W$8)","v":1330}]
[null,"Ohio","Product 3","2014-04-01",4130,1520,null,null,null,null,"ALL",{"$f":"SUM(L18:L22)","v":11715},{"$f":"SUM(M18:M22)","v":13215},{"$f":"SUM(N18:N22)","v":12570},{"$f":"SUM(O18:O22)","v":12095},{"$f":"SUM(P18:P22)","v":12620},{"$f":"SUM(Q18:Q22)","v":11340},{"$f":"SUM(R18:R22)","v":11115},{"$f":"SUM(S18:S22)","v":12225},{"$f":"SUM(T18:T22)","v":12715},{"$f":"SUM(U18:U22)","v":13115},{"$f":"SUM(V18:V22)","v":11990},{"$f":"SUM(W18:W22)","v":11150}]
[null,"Ohio","Product 4","2014-04-01",3540,2790]
[null,"Ohio","Product 5","2014-04-01",3585,2720]
[null,"Ohio","Product 1","2014-05-01",3365,2730]
[null,"Ohio","Product 2","2014-05-01",4105,2240]
[null,"Ohio","Product 3","2014-05-01",5035,1390]
[null,"Ohio","Product 4","2014-05-01",2835,2430]
[null,"Ohio","Product 5","2014-05-01",4025,2290]
[null,"Ohio","Product 1","2014-06-01",3660,2540]
[null,"Ohio","Product 2","2014-06-01",4470,2450]
[null,"Ohio","Product 3","2014-06-01",3895,1210]
[null,"Ohio","Product 4","2014-06-01",4230,2805]
[null,"Ohio","Product 5","2014-06-01",3265,3095]
[null,"Ohio","Product 1","2014-07-01",3610,2365]
[null,"Ohio","Product 2","2014-07-01",2895,3070]
[null,"Ohio","Product 3","2014-07-01",4885,2450]
[null,"Ohio","Product 4","2014-07-01",3955,3150]
[null,"Ohio","Product 5","2014-07-01",3910,3090]
[null,"Ohio","Product 1","2014-08-01",3860,1815]
[null,"Ohio","Product 2","2014-08-01",4900,2380]
[null,"Ohio","Product 3","2014-08-01",4095,2215]
[null,"Ohio","Product 4","2014-08-01",3355,2540]
[null,"Ohio","Product 5","2014-08-01",3580,2270]
[null,"Ohio","Product 1","2014-09-01",4080,2860]
[null,"Ohio","Product 2","2014-09-01",2900,2405]
[null,"Ohio","Product 3","2014-09-01",4615,2450]
[null,"Ohio","Product 4","2014-09-01",3635,2410]
[null,"Ohio","Product 5","2014-09-01",3535,2320]
[null,"Ohio","Product 1","2014-10-01",2875,2680]
[null,"Ohio","Product 2","2014-10-01",4285,2800]
[null,"Ohio","Product 3","2014-10-01",3865,2925]
[null,"Ohio","Product 4","2014-10-01",3005,2515]
[null,"Ohio","Product 5","2014-10-01",4380,3200]
[null,"Ohio","Product 1","2014-11-01",3020,2240]
[null,"Ohio","Product 2","2014-11-01",2965,1630]
[null,"Ohio","Product 3","2014-11-01",3305,2940]
[null,"Ohio","Product 4","2014-11-01",4335,2445]
[null,"Ohio","Product 5","2014-11-01",3920,2255]
[null,"Ohio","Product 1","2014-12-01",2325,1440]
[null,"Ohio","Product 2","2014-12-01",3210,2550]
[null,"Ohio","Product 3","2014-12-01",3525,1695]
[null,"Ohio","Product 4","2014-12-01",3530,2445]
[null,"Ohio","Product 5","2014-12-01",2705,2460]
[null,"New York","Product 1","2014-01-01",4230,2330]
[null,"New York","Product 2","2014-01-01",4920,2200]
[null,"New York","Product 3","2014-01-01",3855,1445]
[null,"New York","Product 4","2014-01-01",3250,1610]
[null,"New York","Product 5","2014-01-01",4620,2150]
[null,"New York","Product 1","2014-02-01",4670,3085]
[null,"New York","Product 2","2014-02-01",4190,2150]
[null,"New York","Product 3","2014-02-01",4385,3305]
[null,"New York","Product 4","2014-02-01",4260,2255]
[null,"New York","Product 5","2014-02-01",3590,2305]
[null,"New York","Product 1","2014-03-01",2980,2405]
[null,"New York","Product 2","2014-03-01",3670,2525]
[null,"New York","Product 3","2014-03-01",4210,2610]
[null,"New York","Product 4","2014-03-01",3965,2760]
[null,"New York","Product 5","2014-03-01",4155,2565]
[null,"New York","Product 1","2014-04-01",2955,2910]
[null,"New York","Product 2","2014-04-01",4895,1910]
[null,"New York","Product 3","2014-04-01",5115,2505]
[null,"New York","Product 4","2014-04-01",2810,2770]
[null,"New York","Product 5","2014-04-01",5105,1560]
[null,"New York","Product 1","2014-05-01",2920,2620]
[null,"New York","Product 2","2014-05-01",3205,3755]
[null,"New York","Product 3","2014-05-01",3725,1925]
[null,"New York","Product 4","2014-05-01",4125,3795]
[null,"New York","Product 5","2014-05-01",2865,2610]
[null,"New York","Product 1","2014-06-01",3585,2780]
[null,"New York","Product 2","2014-06-01",4255,2615]
[null,"New York","Product 3","2014-06-01",4490,2620]
[null,"New York","Product 4","2014-06-01",4325,2085]
[null,"New York","Product 5","2014-06-01",3900,2965]
[null,"New York","Product 1","2014-07-01",4640,1790]
[null,"New York","Product 2","2014-07-01",4530,2580]
[null,"New York","Product 3","2014-07-01",3410,2875]
[null,"New York","Product 4","2014-07-01",3435,3140]
[null,"New York","Product 5","2014-07-01",3935,3150]
[null,"New York","Product 1","2014-08-01",3345,2290]
[null,"New York","Product 2","2014-08-01",3655,2310]
[null,"New York","Product 3","2014-08-01",4250,2980]
[null,"New York","Product 4","2014-08-01",3680,2215]
[null,"New York","Product 5","2014-08-01",4275,2035]
[null,"New York","Product 1","2014-09-01",3880,3170]
[null,"New York","Product 2","2014-09-01",4005,2280]
[null,"New York","Product 3","2014-09-01",3840,1995]
[null,"New York","Product 4","2014-09-01",2630,2685]
[null,"New York","Product 5","2014-09-01",4795,2580]
[null,"New York","Product 1","2014-10-01",4410,2090]
[null,"New York","Product 2","2014-10-01",3985,2155]
[null,"New York","Product 3","2014-10-01",4145,2430]
[null,"New York","Product 4","2014-10-01",4270,2415]
[null,"New York","Product 5","2014-10-01",2775,1500]
[null,"New York","Product 1","2014-11-01",4420,1770]
[null,"New York","Product 2","2014-11-01",3330,2360]
[null,"New York","Product 3","2014-11-01",4045,3150]
[null,"New York","Product 4","2014-11-01",3920,3140]
[null,"New York","Product 5","2014-11-01",3975,2860]
[null,"New York","Product 1","2014-12-01",3860,2685]
[null,"New York","Product 2","2014-12-01",4125,2945]
[null,"New York","Product 3","2014-12-01",3920,2535]
[null,"New York","Product 4","2014-12-01",3535,2555]
[null,"New York","Product 5","2014-12-01",2965,2195]
[null,"New Jersey","Product 1","2014-01-01",4675,2525]
[null,"New Jersey","Product 2","2014-01-01",4775,2820]
[null,"New Jersey","Product 3","2014-01-01",4155,2245]
[null,"New Jersey","Product 4","2014-01-01",4520,3375]
[null,"New Jersey","Product 5","2014-01-01",4235,1655]
[null,"New Jersey","Product 1","2014-02-01",4840,2605]
[null,"New Jersey","Product 2","2014-02-01",6060,3500]
[null,"New Jersey","Product 3","2014-02-01",3270,2715]
[null,"New Jersey","Product 4","2014-02-01",4760,2140]
[null,"New Jersey","Product 5","2014-02-01",3570,2305]
[null,"New Jersey","Product 1","2014-03-01",4055,2970]
[null,"New Jersey","Product 2","2014-03-01",4225,3430]
[null,"New Jersey","Product 3","2014-03-01",2125,2390]
[null,"New Jersey","Product 4","2014-03-01",4270,2525]
[null,"New Jersey","Product 5","2014-03-01",4355,3545]
[null,"New Jersey","Product 1","2014-04-01",4555,2340]
[null,"New Jersey","Product 2","2014-04-01",4440,3000]
[null,"New Jersey","Product 3","2014-04-01",4095,3490]
[null,"New Jersey","Product 4","2014-04-01",5180,3010]
[null,"New Jersey","Product 5","2014-04-01",2795,2175]
[null,"New Jersey","Product 1","2014-05-01",4085,2350]
[null,"New Jersey","Product 2","2014-05-01",3220,2250]
[null,"New Jersey","Product 3","2014-05-01",4355,1820]
[null,"New Jersey","Product 4","2014-05-01",4510,2140]
[null,"New Jersey","Product 5","2014-05-01",4500,1660]
[null,"New Jersey","Product 1","2014-06-01",4790,1990]
[null,"New Jersey","Product 2","2014-06-01",2900,2485]
[null,"New Jersey","Product 3","2014-06-01",3495,2525]
[null,"New Jersey","Product 4","2014-06-01",5125,2485]
[null,"New Jersey","Product 5","2014-06-01",2895,1755]
[null,"New Jersey","Product 1","2014-07-01",3250,2725]
[null,"New Jersey","Product 2","2014-07-01",3290,3300]
[null,"New Jersey","Product 3","2014-07-01",4110,2160]
[null,"New Jersey","Product 4","2014-07-01",3430,2595]
[null,"New Jersey","Product 5","2014-07-01",4245,2255]
[null,"New Jersey","Product 1","2014-08-01",4770,2340]
[null,"New Jersey","Product 2","2014-08-01",3135,2245]
[null,"New Jersey","Product 3","2014-08-01",4510,1960]
[null,"New Jersey","Product 4","2014-08-01",2950,2520]
[null,"New Jersey","Product 5","2014-08-01",4110,2900]
[null,"New Jersey","Product 1","2014-09-01",4360,2235]
[null,"New Jersey","Product 2","2014-09-01",3530,2830]
[null,"New Jersey","Product 3","2014-09-01",3615,2965]
[null,"New Jersey","Product 4","2014-09-01",3390,2915]
[null,"New Jersey","Product 5","2014-09-01",5345,2165]
[null,"New Jersey","Product 1","2014-10-01",4940,2370]
[null,"New Jersey","Product 2","2014-10-01",3990,2735]
[null,"New Jersey","Product 3","2014-10-01",4735,2385]
[null,"New Jersey","Product 4","2014-10-01",3420,2120]
[null,"New Jersey","Product 5","2014-10-01",3825,1965]
[null,"New Jersey","Product 1","2014-11-01",2855,1995]
[null,"New Jersey","Product 2","2014-11-01",4305,2470]
[null,"New Jersey","Product 3","2014-11-01",4105,2645]
[null,"New Jersey","Product 4","2014-11-01",3535,2910]
[null,"New Jersey","Product 5","2014-11-01",3775,2700]
[null,"New Jersey","Product 1","2014-12-01",5205,2570]
[null,"New Jersey","Product 2","2014-12-01",5215,2145]
[null,"New Jersey","Product 3","2014-12-01",4770,3430]
[null,"New Jersey","Product 4","2014-12-01",3165,3225]
[null,"New Jersey","Product 5","2014-12-01",3850,2960]
[null,"Kentucky","Product 1","2014-01-01",2735,2325]
[null,"Kentucky","Product 2","2014-01-01",4440,2340]
[null,"Kentucky","Product 3","2014-01-01",2985,3285]
[null,"Kentucky","Product 4","2014-01-01",4395,2020]
[null,"Kentucky","Product 5","2014-01-01",4360,3650]
[null,"Kentucky","Product 1","2014-02-01",3695,2925]
[null,"Kentucky","Product 2","2014-02-01",4930,2400]
[null,"Kentucky","Product 3","2014-02-01",4135,3125]
[null,"Kentucky","Product 4","2014-02-01",3500,1805]
[null,"Kentucky","Product 5","2014-02-01",4525,2240]
[null,"Kentucky","Product 1","2014-03-01",3225,2720]
[null,"Kentucky","Product 2","2014-03-01",2965,2390]
[null,"Kentucky","Product 3","2014-03-01",4540,2390]
[null,"Kentucky","Product 4","2014-03-01",3350,2310]
[null,"Kentucky","Product 5","2014-03-01",3220,2815]
[null,"Kentucky","Product 1","2014-04-01",4330,2020]
[null,"Kentucky","Product 2","2014-04-01",3535,2630]
[null,"Kentucky","Product 3","2014-04-01",5055,2915]
[null,"Kentucky","Product 4","2014-04-01",3945,2595]
[null,"Kentucky","Product 5","2014-04-01",3210,3055]
[null,"Kentucky","Product 1","2014-05-01",3200,3330]
[null,"Kentucky","Product 2","2014-05-01",4720,2535]
[null,"Kentucky","Product 3","2014-05-01",4105,2350]
[null,"Kentucky","Product 4","2014-05-01",4065,2055]
[null,"Kentucky","Product 5","2014-05-01",3595,1765]
[null,"Kentucky","Product 1","2014-06-01",4250,2840]
[null,"Kentucky","Product 2","2014-06-01",4500,2315]
[null,"Kentucky","Product 3","2014-06-01",3395,3205]
[null,"Kentucky","Product 4","2014-06-01",3720,2805]
[null,"Kentucky","Product 5","2014-06-01",3835,3760]
[null,"Kentucky","Product 1","2014-07-01",5285,2335]
[null,"Kentucky","Product 2","2014-07-01",4185,2555]
[null,"Kentucky","Product 3","2014-07-01",3240,2835]
[null,"Kentucky","Product 4","2014-07-01",4180,2645]
[null,"Kentucky","Product 5","2014-07-01",4350,2960]
[null,"Kentucky","Product 1","2014-08-01",4750,3280]
[null,"Kentucky","Product 2","2014-08-01",4610,2100]
[null,"Kentucky","Product 3","2014-08-01",4580,2270]
[null,"Kentucky","Product 4","2014-08-01",2290,2735]
[null,"Kentucky","Product 5","2014-08-01",3710,2860]
[null,"Kentucky","Product 1","2014-09-01",4390,2415]
[null,"Kentucky","Product 2","2014-09-01",4570,2160]
[null,"Kentucky","Product 3","2014-09-01",3850,2330]
[null,"Kentucky","Product 4","2014-09-01",4535,2740]
[null,"Kentucky","Product 5","2014-09-01",4080,2390]
[null,"Kentucky","Product 1","2014-10-01",3540,1555]
[null,"Kentucky","Product 2","2014-10-01",3390,2540]
[null,"Kentucky","Product 3","2014-10-01",4210,3130]
[null,"Kentucky","Product 4","2014-10-01",3770,2970]
[null,"Kentucky","Product 5","2014-10-01",3435,2565]
[null,"Kentucky","Product 1","2014-11-01",4135,2015]
[null,"Kentucky","Product 2","2014-11-01",3465,2730]
[null,"Kentucky","Product 3","2014-11-01",4665,2340]
[null,"Kentucky","Product 4","2014-11-01",4045,2985]
[null,"Kentucky","Product 5","2014-11-01",3840,2250]
[null,"Kentucky","Product 1","2014-12-01",5340,2685]
[null,"Kentucky","Product 2","2014-12-01",3910,2525]
[null,"Kentucky","Product 3","2014-12-01",4605,2365]
[null,"Kentucky","Product 4","2014-12-01",4475,2795]
[null,"Kentucky","Product 5","2014-12-01",3260,3105]
[null,"Washington","Product 1","2014-01-01",4500,1935]
[null,"Washington","Product 2","2014-01-01",3075,3030]
[null,"Washington","Product 3","2014-01-01",4550,2530]
[null,"Washington","Product 4","2014-01-01",3350,2315]
[null,"Washington","Product 5","2014-01-01",3515,2625]
[null,"Washington","Product 1","2014-02-01",4020,2895]
[null,"Washington","Product 2","2014-02-01",4350,1760]
[null,"Washington","Product 3","2014-02-01",4155,2725]
[null,"Washington","Product 4","2014-02-01",3260,2335]
[null,"Washington","Product 5","2014-02-01",5040,2405]
[null,"Washington","Product 1","2014-03-01",3190,1720]
[null,"Washington","Product 2","2014-03-01",4130,2760]
[null,"Washington","Product 3","2014-03-01",4465,2010]
[null,"Washington","Product 4","2014-03-01",2910,2330]
[null,"Washington","Product 5","2014-03-01",3390,2775]
[null,"Washington","Product 1","2014-04-01",3570,2530]
[null,"Washington","Product 2","2014-04-01",4615,3310]
[null,"Washington","Product 3","2014-04-01",3585,1795]
[null,"Washington","Product 4","2014-04-01",2795,1465]
[null,"Washington","Product 5","2014-04-01",4230,3615]
[null,"Washington","Product 1","2014-05-01",4250,2810]
[null,"Washington","Product 2","2014-05-01",4050,2930]
[null,"Washington","Product 3","2014-05-01",3135,2440]
[null,"Washington","Product 4","2014-05-01",4760,3000]
[null,"Washington","Product 5","2014-05-01",4630,1905]
[null,"Washington","Product 1","2014-06-01",3835,3305]
[null,"Washington","Product 2","2014-06-01",4960,2630]
[null,"Washington","Product 3","2014-06-01",5220,2385]
[null,"Washington","Product 4","2014-06-01",3415,2085]
[null,"Washington","Product 5","2014-06-01",4870,2365]
[null,"Washington","Product 1","2014-07-01",3770,2150]
[null,"Washington","Product 2","2014-07-01",3315,2785]
[null,"Washington","Product 3","2014-07-01",4155,1985]
[null,"Washington","Product 4","2014-07-01",3550,2680]
[null,"Washington","Product 5","2014-07-01",5345,1955]
[null,"Washington","Product 1","2014-08-01",3665,3610]
[null,"Washington","Product 2","2014-08-01",2880,3050]
[null,"Washington","Product 3","2014-08-01",4205,2680]
[null,"Washington","Product 4","2014-08-01",4285,2895]
[null,"Washington","Product 5","2014-08-01",3850,1800]
[null,"Washington","Product 1","2014-09-01",4170,2575]
[null,"Washington","Product 2","2014-09-01",4230,2670]
[null,"Washington","Product 3","2014-09-01",5455,2810]
[null,"Washington","Product 4","2014-09-01",4685,2405]
[null,"Washington","Product 5","2014-09-01",3450,1780]
[null,"Washington","Product 1","2014-10-01",4075,2480]
[null,"Washington","Product 2","2014-10-01",3465,2440]
[null,"Washington","Product 3","2014-10-01",4060,1805]
[null,"Washington","Product 4","2014-10-01",4145,2645]
[null,"Washington","Product 5","2014-10-01",4385,3125]
[null,"Washington","Product 1","2014-11-01",3785,2460]
[null,"Washington","Product 2","2014-11-01",3655,2760]
[null,"Washington","Product 3","2014-11-01",3305,2635]
[null,"Washington","Product 4","2014-11-01",4850,2735]
[null,"Washington","Product 5","2014-11-01",3310,2560]
[null,"Washington","Product 1","2014-12-01",3080,2925]
[null,"Washington","Product 2","2014-12-01",4660,2830]
[null,"Washington","Product 3","2014-12-01",5140,3325]
[null,"Washington","Product 4","2014-12-01",3240,3570]
[null,"Washington","Product 5","2014-12-01",4445,1775]
[null,"Oregon","Product 1","2014-01-01",3560,1780]
[null,"Oregon","Product 2","2014-01-01",3975,2955]
[null,"Oregon","Product 3","2014-01-01",4990,2755]
[null,"Oregon","Product 4","2014-01-01",3040,2710]
[null,"Oregon","Product 5","2014-01-01",4310,3000]
[null,"Oregon","Product 1","2014-02-01",4365,2530]
[null,"Oregon","Product 2","2014-02-01",4720,3290]
[null,"Oregon","Product 3","2014-02-01",3475,2105]
[null,"Oregon","Product 4","2014-02-01",3625,2490]
[null,"Oregon","Product 5","2014-02-01",3950,3315]
[null,"Oregon","Product 1","2014-03-01",4685,1975]
[null,"Oregon","Product 2","2014-03-01",4690,2535]
[null,"Oregon","Product 3","2014-03-01",3050,3110]
[null,"Oregon","Product 4","2014-03-01",3670,3340]
[null,"Oregon","Product 5","2014-03-01",4510,2960]
[null,"Oregon","Product 1","2014-04-01",4805,2225]
[null,"Oregon","Product 2","2014-04-01",4155,1935]
[null,"Oregon","Product 3","2014-04-01",3315,2125]
[null,"Oregon","Product 4","2014-04-01",3900,2955]
[null,"Oregon","Product 5","2014-04-01",3980,2835]
[null,"Oregon","Product 1","2014-05-01",4525,2090]
[null,"Oregon","Product 2","2014-05-01",3150,2050]
[null,"Oregon","Product 3","2014-05-01",3415,3300]
[null,"Oregon","Product 4","2014-05-01",4605,2140]
[null,"Oregon","Product 5","2014-05-01",3390,1755]
[null,"Oregon","Product 1","2014-06-01",3565,2850]
[null,"Oregon","Product 2","2014-06-01",4660,2230]
[null,"Oregon","Product 3","2014-06-01",4280,2525]
[null,"Oregon","Product 4","2014-06-01",3855,2555]
[null,"Oregon","Product 5","2014-06-01",4295,2010]
[null,"Oregon","Product 1","2014-07-01",3865,1890]
[null,"Oregon","Product 2","2014-07-01",5470,2295]
[null,"Oregon","Product 3","2014-07-01",3995,2225]
[null,"Oregon","Product 4","2014-07-01",2275,1925]
[null,"Oregon","Product 5","2014-07-01",3500,2945]
[null,"Oregon","Product 1","2014-08-01",4680,1590]
[null,"Oregon","Product 2","2014-08-01",4660,2685]
[null,"Oregon","Product 3","2014-08-01",4440,2380]
[null,"Oregon","Product 4","2014-08-01",4780,2845]
[null,"Oregon","Product 5","2014-08-01",2620,2355]
[null,"Oregon","Product 1","2014-09-01",4355,2040]
[null,"Oregon","Product 2","2014-09-01",3825,2670]
[null,"Oregon","Product 3","2014-09-01",3800,2415]
[null,"Oregon","Product 4","2014-09-01",4025,2710]
[null,"Oregon","Product 5","2014-09-01",3230,2240]
[null,"Oregon","Product 1","2014-10-01",3140,2150]
[null,"Oregon","Product 2","2014-10-01",4125,2420]
[null,"Oregon","Product 3","2014-10-01",3460,3185]
[null,"Oregon","Product 4","2014-10-01",3755,3090]
[null,"Oregon","Product 5","2014-10-01",4875,2080]
[null,"Oregon","Product 1","2014-11-01",5925,2245]
[null,"Oregon","Product 2","2014-11-01",3250,1795]
[null,"Oregon","Product 3","2014-11-01",4190,1720]
[null,"Oregon","Product 4","2014-11-01",4705,2200]
[null,"Oregon","Product 5","2014-11-01",3835,2625]
[null,"Oregon","Product 1","2014-12-01",4025,2465]
[null,"Oregon","Product 2","2014-12-01",4675,2645]
[null,"Oregon","Product 3","2014-12-01",3230,2960]
[null,"Oregon","Product 4","2014-12-01",1875,1905]
[null,"Oregon","Product 5","2014-12-01",3520,2205]
[null,"California","Product 1","2014-01-01",4260,2150]
[null,"California","Product 2","2014-01-01",2940,2655]
[null,"California","Product 3","2014-01-01",3360,2680]
[null,"California","Product 4","2014-01-01",4475,2270]
[null,"California","Product 5","2014-01-01",3185,1960]
[null,"California","Product 1","2014-02-01",4700,2405]
[null,"California","Product 2","2014-02-01",4020,2080]
[null,"California","Product 3","2014-02-01",4390,3295]
[null,"California","Product 4","2014-02-01",4940,2795]
[null,"California","Product 5","2014-02-01",4095,2640]
[null,"California","Product 1","2014-03-01",3670,2175]
[null,"California","Product 2","2014-03-01",3705,2925]
[null,"California","Product 3","2014-03-01",3480,2590]
[null,"California","Product 4","2014-03-01",3885,2885]
[null,"California","Product 5","2014-03-01",4285,1995]
[null,"California","Product 1","2014-04-01",3850,2145]
[null,"California","Product 2","2014-04-01",4380,1610]
[null,"California","Product 3","2014-04-01",4580,2705]
[null,"California","Product 4","2014-04-01",4445,2755]
[null,"California","Product 5","2014-04-01",3895,2880]
[null,"California","Product 1","2014-05-01",3130,1730]
[null,"California","Product 2","2014-05-01",3835,2965]
[null,"California","Product 3","2014-05-01",3815,3070]
[null,"California","Product 4","2014-05-01",5155,2550]
[null,"California","Product 5","2014-05-01",4620,2305]
[null,"California","Product 1","2014-06-01",4205,2030]
[null,"California","Product 2","2014-06-01",3950,2365]
[null,"California","Product 3","2014-06-01",3200,2615]
[null,"California","Product 4","2014-06-01",2520,1865]
[null,"California","Product 5","2014-06-01",3645,2465]
[null,"California","Product 1","2014-07-01",5205,2795]
[null,"California","Product 2","2014-07-01",4190,2265]
[null,"California","Product 3","2014-07-01",4320,1240]
[null,"California","Product 4","2014-07-01",3910,2060]
[null,"California","Product 5","2014-07-01",3760,2755]
[null,"California","Product 1","2014-08-01",3225,2700]
[null,"California","Product 2","2014-08-01",3995,2670]
[null,"California","Product 3","2014-08-01",2915,2055]
[null,"California","Product 4","2014-08-01",3530,1890]
[null,"California","Product 5","2014-08-01",4425,2910]
[null,"California","Product 1","2014-09-01",3115,2255]
[null,"California","Product 2","2014-09-01",3945,2400]
[null,"California","Product 3","2014-09-01",3665,2695]
[null,"California","Product 4","2014-09-01",4120,2565]
[null,"California","Product 5","2014-09-01",4075,2800]
[null,"California","Product 1","2014-10-01",3100,2755]
[null,"California","Product 2","2014-10-01",5135,2655]
[null,"California","Product 3","2014-10-01",3645,2745]
[null,"California","Product 4","2014-10-01",4015,2750]
[null,"California","Product 5","2014-10-01",4765,2210]
[null,"California","Product 1","2014-11-01",4235,2680]
[null,"California","Product 2","2014-11-01",4305,2875]
[null,"California","Product 3","2014-11-01",5310,2560]
[null,"California","Product 4","2014-11-01",3965,1845]
[null,"California","Product 5","2014-11-01",3895,2030]
[null,"California","Product 1","2014-12-01",5600,2660]
[null,"California","Product 2","2014-12-01",3930,2545]
[null,"California","Product 3","2014-12-01",3270,2570]
[null,"California","Product 4","2014-12-01",3165,2045]
[null,"California","Product 5","2014-12-01",3190,1330]
[null,"Texas","Product 1","2014-01-01",4025,2460]
[null,"Texas","Product 2","2014-01-01",5215,2690]
[null,"Texas","Product 3","2014-01-01",4730,3375]
[null,"Texas","Product 4","2014-01-01",3425,3025]
[null,"Texas","Product 5","2014-01-01",5515,2970]
[null,"Texas","Product 1","2014-02-01",4140,3410]
[null,"Texas","Product 2","2014-02-01",3880,2140]
[null,"Texas","Product 3","2014-02-01",4505,2865]
[null,"Texas","Product 4","2014-02-01",4450,2285]
[null,"Texas","Product 5","2014-02-01",3735,2940]
[null,"Texas","Product 1","2014-03-01",3425,1985]
[null,"Texas","Product 2","2014-03-01",4140,2470]
[null,"Texas","Product 3","2014-03-01",3425,2425]
[null,"Texas","Product 4","2014-03-01",4030,1580]
[null,"Texas","Product 5","2014-03-01",3700,2565]
[null,"Texas","Product 1","2014-04-01",4270,2375]
[null,"Texas","Product 2","2014-04-01",3965,2395]
[null,"Texas","Product 3","2014-04-01",3735,2385]
[null,"Texas","Product 4","2014-04-01",4435,2995]
[null,"Texas","Product 5","2014-04-01",4785,1990]
[null,"Texas","Product 1","2014-05-01",4255,2875]
[null,"Texas","Product 2","2014-05-01",3620,3315]
[null,"Texas","Product 3","2014-05-01",4415,2770]
[null,"Texas","Product 4","2014-05-01",3100,2935]
[null,"Texas","Product 5","2014-05-01",4295,1430]
[null,"Texas","Product 1","2014-06-01",4310,3120]
[null,"Texas","Product 2","2014-06-01",3655,3405]
[null,"Texas","Product 3","2014-06-01",4240,2815]
[null,"Texas","Product 4","2014-06-01",4010,2350]
[null,"Texas","Product 5","2014-06-01",4090,1635]
[null,"Texas","Product 1","2014-07-01",3150,2790]
[null,"Texas","Product 2","2014-07-01",2655,1845]
[null,"Texas","Product 3","2014-07-01",4125,2785]
[null,"Texas","Product 4","2014-07-01",5505,2950]
[null,"Texas","Product 5","2014-07-01",4880,1645]
[null,"Texas","Product 1","2014-08-01",3945,2450]
[null,"Texas","Product 2","2014-08-01",5015,3065]
[null,"Texas","Product 3","2014-08-01",3065,2645]
[null,"Texas","Product 4","2014-08-01",4595,2515]
[null,"Texas","Product 5","2014-08-01",3600,2210]
[null,"Texas","Product 1","2014-09-01",3705,1695]
[null,"Texas","Product 2","2014-09-01",3545,2920]
[null,"Texas","Product 3","2014-09-01",3995,3150]
[null,"Texas","Product 4","2014-09-01",3730,2590]
[null,"Texas","Product 5","2014-09-01",3935,1855]
[null,"Texas","Product 1","2014-10-01",3660,2125]
[null,"Texas","Product 2","2014-10-01",2425,2135]
[null,"Texas","Product 3","2014-10-01",4380,2900]
[null,"Texas","Product 4","2014-10-01",5915,2865]
[null,"Texas","Product 5","2014-10-01",3425,2435]
[null,"Texas","Product 1","2014-11-01",3870,2865]
[null,"Texas","Product 2","2014-11-01",3835,1620]
[null,"Texas","Product 3","2014-11-01",4710,2805]
[null,"Texas","Product 4","2014-11-01",3850,2825]
[null,"Texas","Product 5","2014-11-01",3680,2460]
[null,"Texas","Product 1","2014-12-01",5090,3080]
[null,"Texas","Product 2","2014-12-01",4565,2115]
[null,"Texas","Product 3","2014-12-01",4020,1805]
[null,"Texas","Product 4","2014-12-01",2525,2905]
[null,"Texas","Product 5","2014-12-01",3625,3105]
[null,"Florida","Product 1","2014-01-01",4015,2865]
[null,"Florida","Product 2","2014-01-01",3175,2505]
[null,"Florida","Product 3","2014-01-01",4830,3395]
[null,"Florida","Product 4","2014-01-01",4610,2405]
[null,"Florida","Product 5","2014-01-01",4240,1900]
[null,"Florida","Product 1","2014-02-01",3600,2540]
[null,"Florida","Product 2","2014-02-01",3815,3225]
[null,"Florida","Product 3","2014-02-01",4115,2980]
[null,"Florida","Product 4","2014-02-01",4000,3535]
[null,"Florida","Product 5","2014-02-01",4175,2240]
[null,"Florida","Product 1","2014-03-01",3955,2275]
[null,"Florida","Product 2","2014-03-01",4135,2970]
[null,"Florida","Product 3","2014-03-01",3625,2555]
[null,"Florida","Product 4","2014-03-01",3645,2940]
[null,"Florida","Product 5","2014-03-01",4165,2135]
[null,"Florida","Product 1","2014-04-01",3940,2095]
[null,"Florida","Product 2","2014-04-01",3635,1635]
[null,"Florida","Product 3","2014-04-01",4890,2515]
[null,"Florida","Product 4","2014-04-01",5390,2360]
[null,"Florida","Product 5","2014-04-01",4015,3280]
[null,"Florida","Product 1","2014-05-01",3615,3090]
[null,"Florida","Product 2","2014-05-01",4120,2710]
[null,"Florida","Product 3","2014-05-01",3995,3570]
[null,"Florida","Product 4","2014-05-01",3865,2435]
[null,"Florida","Product 5","2014-05-01",3600,2960]
[null,"Florida","Product 1","2014-06-01",4465,1865]
[null,"Florida","Product 2","2014-06-01",2920,2790]
[null,"Florida","Product 3","2014-06-01",3885,2260]
[null,"Florida","Product 4","2014-06-01",3905,2630]
[null,"Florida","Product 5","2014-06-01",3350,2405]
[null,"Florida","Product 1","2014-07-01",3250,1375]
[null,"Florida","Product 2","2014-07-01",3525,2780]
[null,"Florida","Product 3","2014-07-01",4185,1415]
[null,"Florida","Product 4","2014-07-01",4445,2425]
[null,"Florida","Product 5","2014-07-01",3480,2555]
[null,"Florida","Product 1","2014-08-01",4780,2825]
[null,"Florida","Product 2","2014-08-01",4460,2595]
[null,"Florida","Product 3","2014-08-01",3515,2910]
[null,"Florida","Product 4","2014-08-01",3835,1935]
[null,"Florida","Product 5","2014-08-01",4030,1825]
[null,"Florida","Product 1","2014-09-01",3725,2460]
[null,"Florida","Product 2","2014-09-01",3500,1935]
[null,"Florida","Product 3","2014-09-01",3465,2090]
[null,"Florida","Product 4","2014-09-01",4190,2570]
[null,"Florida","Product 5","2014-09-01",4810,3000]
[null,"Florida","Product 1","2014-10-01",4295,2325]
[null,"Florida","Product 2","2014-10-01",3255,2110]
[null,"Florida","Product 3","2014-10-01",5215,2700]
[null,"Florida","Product 4","2014-10-01",3685,2725]
[null,"Florida","Product 5","2014-10-01",4050,2055]
[null,"Florida","Product 1","2014-11-01",2915,2270]
[null,"Florida","Product 2","2014-11-01",3615,2030]
[null,"Florida","Product 3","2014-11-01",3655,2515]
[null,"Florida","Product 4","2014-11-01",3730,2105]
[null,"Florida","Product 5","2014-11-01",4850,1735]
[null,"Florida","Product 1","2014-12-01",4315,2170]
[null,"Florida","Product 2","2014-12-01",4895,1435]
[null,"Florida","Product 3","2014-12-01",3120,2060]
[null,"Florida","Product 4","2014-12-01",3175,1910]
[null,"Florida","Product 5","2014-12-01",3805,2910]
[null,"South Carolina","Product 1","2014-01-01",3940,2585]
[null,"South Carolina","Product 2","2014-01-01",3305,2325]
[null,"South Carolina","Product 3","2014-01-01",3390,2505]
[null,"South Carolina","Product 4","2014-01-01",3575,3065]
[null,"South Carolina","Product 5","2014-01-01",4015,2870]
[null,"South Carolina","Product 1","2014-02-01",4120,2680]
[null,"South Carolina","Product 2","2014-02-01",4105,2115]
[null,"South Carolina","Product 3","2014-02-01",4485,2140]
[null,"South Carolina","Product 4","2014-02-01",4915,2235]
[null,"South Carolina","Product 5","2014-02-01",3830,3115]
[null,"South Carolina","Product 1","2014-03-01",3700,1905]
[null,"South Carolina","Product 2","2014-03-01",4390,2240]
[null,"South Carolina","Product 3","2014-03-01",2535,2320]
[null,"South Carolina","Product 4","2014-03-01",3750,2480]
[null,"South Carolina","Product 5","2014-03-01",3605,1790]
[null,"South Carolina","Product 1","2014-04-01",3965,2405]
[null,"South Carolina","Product 2","2014-04-01",2950,1870]
[null,"South Carolina","Product 3","2014-04-01",2105,2405]
[null,"South Carolina","Product 4","2014-04-01",3815,2860]
[null,"South Carolina","Product 5","2014-04-01",3975,2595]
[null,"South Carolina","Product 1","2014-05-01",4170,2010]
[null,"South Carolina","Product 2","2014-05-01",4985,2475]
[null,"South Carolina","Product 3","2014-05-01",3415,1970]
[null,"South Carolina","Product 4","2014-05-01",4120,2430]
[null,"South Carolina","Product 5","2014-05-01",3235,1955]
[null,"South Carolina","Product 1","2014-06-01",4580,3160]
[null,"South Carolina","Product 2","2014-06-01",4190,2830]
[null,"South Carolina","Product 3","2014-06-01",4455,3055]
[null,"South Carolina","Product 4","2014-06-01",4495,2460]
[null,"South Carolina","Product 5","2014-06-01",4825,1960]
[null,"South Carolina","Product 1","2014-07-01",3845,2180]
[null,"South Carolina","Product 2","2014-07-01",3275,3310]
[null,"South Carolina","Product 3","2014-07-01",3765,2140]
[null,"South Carolina","Product 4","2014-07-01",4550,2770]
[null,"South Carolina","Product 5","2014-07-01",4935,1445]
[null,"South Carolina","Product 1","2014-08-01",3505,2750]
[null,"South Carolina","Product 2","2014-08-01",3745,2240]
[null,"South Carolina","Product 3","2014-08-01",3860,2400]
[null,"South Carolina","Product 4","2014-08-01",3470,2605]
[null,"South Carolina","Product 5","2014-08-01",5610,3035]
[null,"South Carolina","Product 1","2014-09-01",3130,2320]
[null,"South Carolina","Product 2","2014-09-01",2945,2455]
[null,"South Carolina","Product 3","2014-09-01",4105,2995]
[null,"South Carolina","Product 4","2014-09-01",3965,2780]
[null,"South Carolina","Product 5","2014-09-01",3070,3550]
[null,"South Carolina","Product 1","2014-10-01",3220,2630]
[null,"South Carolina","Product 2","2014-10-01",4110,2460]
[null,"South Carolina","Product 3","2014-10-01",4745,2765]
[null,"South Carolina","Product 4","2014-10-01",4005,1985]
[null,"South Carolina","Product 5","2014-10-01",4575,2635]
[null,"South Carolina","Product 1","2014-11-01",5185,2505]
[null,"South Carolina","Product 2","2014-11-01",3415,1850]
[null,"South Carolina","Product 3","2014-11-01",3810,1915]
[null,"South Carolina","Product 4","2014-11-01",4070,2550]
[null,"South Carolina","Product 5","2014-11-01",3080,2425]
[null,"South Carolina","Product 1","2014-12-01",3880,2485]
[null,"South Carolina","Product 2","2014-12-01",4460,2250]
[null,"South Carolina","Product 3","2014-12-01",4040,2310]
[null,"South Carolina","Product 4","2014-12-01",4540,2430]
[null,"South Carolina","Product 5","2014-12-01",3365,2270]